BEGIN:VCALENDAR
VERSION:2.0
PRODID:-//Black Tongue Events - ECPv6.15.20//NONSGML v1.0//EN
CALSCALE:GREGORIAN
METHOD:PUBLISH
X-WR-CALNAME:Black Tongue Events
X-ORIGINAL-URL:https://blacktongueevents.co.uk
X-WR-CALDESC:Events for Black Tongue Events
REFRESH-INTERVAL;VALUE=DURATION:PT1H
X-Robots-Tag:noindex
X-PUBLISHED-TTL:PT1H
BEGIN:VTIMEZONE
TZID:Europe/London
BEGIN:DAYLIGHT
TZOFFSETFROM:+0000
TZOFFSETTO:+0100
TZNAME:BST
DTSTART:20250330T010000
END:DAYLIGHT
BEGIN:STANDARD
TZOFFSETFROM:+0100
TZOFFSETTO:+0000
TZNAME:GMT
DTSTART:20251026T010000
END:STANDARD
BEGIN:DAYLIGHT
TZOFFSETFROM:+0000
TZOFFSETTO:+0100
TZNAME:BST
DTSTART:20260329T010000
END:DAYLIGHT
BEGIN:STANDARD
TZOFFSETFROM:+0100
TZOFFSETTO:+0000
TZNAME:GMT
DTSTART:20261025T010000
END:STANDARD
BEGIN:DAYLIGHT
TZOFFSETFROM:+0000
TZOFFSETTO:+0100
TZNAME:BST
DTSTART:20270328T010000
END:DAYLIGHT
BEGIN:STANDARD
TZOFFSETFROM:+0100
TZOFFSETTO:+0000
TZNAME:GMT
DTSTART:20271031T010000
END:STANDARD
END:VTIMEZONE
BEGIN:VEVENT
DTSTART;TZID=Europe/London:20260426T190000
DTEND;TZID=Europe/London:20260426T230000
DTSTAMP:20260419T135839
CREATED:20260222T155918Z
LAST-MODIFIED:20260225T014249Z
UID:2161-1777230000-1777244400@blacktongueevents.co.uk
SUMMARY:Black Tongue Events Presents: Rillington Place\, Biomech\, Darkened Void & Narka\, The Hull Debut!
DESCRIPTION:Black Tongue Events makes it’s Hull debut this April at O’Rileys\, bringing you some of the very best heavy acts from Hull\, Scunthorpe\, and further afield.\nWe’re opening up the floor at O’Rileys with pure chaos and crushing riffs. This is set to be a special night and a major step forward for Black Tongue Events\, who are already making serious waves across the Humber region.\nExpect high energy\, heavy pits\, and a night built for the underground.\n\nLINE-UP\n\n Narka 20:00 – 20:30Scunthorpe’s own nu-metal wrecking crew. Delivering groove-laden riffs\, raw aggression\, and chaotic live energy\, Narka bring pure metal violence from start to finish. Absolutely unmissable. \n\n\n Darkened Void 20:40 – 21:10Rising out of Hull with a female‑fronted melodic death metal assault\, Darkened Void bring raw ferocity sharpened to a point. They’re already ripping through the local scene with crushing breakdowns and unrelenting intensity. They hit the stage at 8:40 PM You don’t want to miss this set! \n\n\n Biomech 21:15 – 21:50Leeds deathcore pushing beyond genre limits! Fusing the crushing weight of modern extreme metal with technical precision and ambient\, cinematic atmospheres. Expect dissonant riffs\, relentless rhythm shifts\, and a live set that is chaotic\, immersive\, and meticulously constructed. \n Rillington Place 22:00 – 23:00Alternative metal from West Yorkshire blending nu-metal grit with the weight of doom and sludge. Built on aggressive drop-tuned riffs\, haunting melodies\, and a dynamic mix of harsh and clean vocals. Self described as “gloom and groove\,” their sound swings from infectious hooks to crushing breakdowns with purpose.
URL:https://blacktongueevents.co.uk/event/black-tongue-events-presents-rillington-place-biomech-darkened-void-narka-the-hull-debut/
LOCATION:O’Rileys\, 83 Beverley Road\, Kingston Upon Hull\, Humberside\, HU3 1XR\, United Kingdom
CATEGORIES:Metal,One-Off Shows
ATTACH;FMTTYPE=image/png:https://blacktongueevents.co.uk/wp-content/uploads/2026/02/Rillington-place-2.png
END:VEVENT
BEGIN:VEVENT
DTSTART;TZID=Europe/London:20260515T200000
DTEND;TZID=Europe/London:20260516T010000
DTSTAMP:20260419T135839
CREATED:20260204T121206Z
LAST-MODIFIED:20260204T141024Z
UID:1777-1778875200-1778893200@blacktongueevents.co.uk
SUMMARY:MC Devvo Live In Scunthorpe
DESCRIPTION:The world-famous MC Devvo lands in Scunthorpe for an exclusive live show. \nRenowned for his iconic persona\, viral tracks\, and high-energy rave performances\, MC Devvo delivers an unforgettable night packed with humour\, crowd interaction\, and heavyweight beats. This is a rare chance to catch one of the UK’s most recognisable MCs live on stage. \nExpect a full-scale live performance with non-stop energy from start to finish. \nEvent Details\n\n\nArtist: MC Devvo \n\n\nLocation: The Britt\, 198 High St\, Scunthorpe DN15 6EA \n\n\nDate: 15th of may 2026 \n\n\nDoors: 8PM \n\n\nAge Restriction: 18+ \n\n\nCapacity: Limited \n\n\nTickets\nTickets are limited and expected to sell fast.Secure yours early to avoid disappointment.
URL:https://blacktongueevents.co.uk/event/mc-devvo-live-in-scunthorpe/
LOCATION:Britannia\, 198 High St\, Scunthorpe\, North Lincolnshire\, DN15 6EA\, United Kingdom
CATEGORIES:Club Nights,One-Off Shows
ATTACH;FMTTYPE=image/png:https://blacktongueevents.co.uk/wp-content/uploads/2026/02/MC-Devvo-2.png
END:VEVENT
BEGIN:VEVENT
DTSTART;TZID=Europe/London:20260516T200000
DTEND;TZID=Europe/London:20260517T030000
DTSTAMP:20260419T135839
CREATED:20260204T140958Z
LAST-MODIFIED:20260204T145406Z
UID:1785-1778961600-1778986800@blacktongueevents.co.uk
SUMMARY:MC Devvo Live In Grimsby
DESCRIPTION:The world-famous MC Devvo comes to Grimsby for an exclusive live performance. \nKnown across the UK for his iconic character\, viral moments\, and high-energy rave sets\, MC Devvo delivers a no-holds-barred live show packed with humour\, crowd interaction\, and heavyweight beats. Expect a full-throttle night from start to finish. \nThis is a one-night-only event with limited capacity. \nEvent Details\n\n\nArtist: MC Devvo \n\n\nLocation: Grimsby \n\n\nDate: 16th Of May 2026! \n\n\nDoors: 8pm \n\n\nAge Restriction: 18+ \n\n\nTickets\nTickets are limited and expected to sell quickly.Secure yours early to avoid missing out.
URL:https://blacktongueevents.co.uk/event/mc-devvo-live-in-grimsby/
LOCATION:Fusion\, 90 Victoria Street West\, West Marsh\, Grimsby\, North East Lincolnshire\, DN31 1BG\, United Kingdom
CATEGORIES:Club Nights,One-Off Shows
ATTACH;FMTTYPE=image/png:https://blacktongueevents.co.uk/wp-content/uploads/2026/02/MC-Devvo-3.png
END:VEVENT
BEGIN:VEVENT
DTSTART;TZID=Europe/London:20260529T190000
DTEND;TZID=Europe/London:20260529T230000
DTSTAMP:20260419T135839
CREATED:20260129T012451Z
LAST-MODIFIED:20260129T012451Z
UID:1741-1780081200-1780095600@blacktongueevents.co.uk
SUMMARY:Black Tongue Events Presents The Crowned Dead
DESCRIPTION:Gather at the Redbourne Club on May 29th and behold The Crowned Dead \nCARNAL ROTPRAETORIANTIGGUOCOBAUCERECTOMY\n\nVIP @ 6:30PMDOORS @ 7PMNOISE @7:30PM18+ \n\nCarnal Rot hit us from Liverpool with a full blast of death grind chaos  Formed in 2022 and already making serious noise\, the band features Cam Duff on rhythm guitar\, Tomm McCullough on vocals\, James Barry on drums\, Dan Repton on bass and Calvin Bretherton on lead guitar. Their sound is exactly what you’d expect from that lineup: fast\, filthy and absolutely relentless\, with gore-soaked riffs that don’t give you a second to breathe. Their 2024 EP Skullfuck Fulmination turned plenty of heads\, alongside singles like Choke Her Like Bundy\, and they’ve been pushing harder ever since. Cam himself hails from Keadby and has been involved in a bunch of underground projects over the years\, so it’s a proper treat having him back on home turf for this one  \n\nPraetorian join us from Hertfordshire\, bringing thick\, blackened sludge and hardcore grit to the bill  Formed in 2015\, the trio of Tom Clements on vocals\, Richard Stevenson on bass and backing vocals and Andrew Bisgrove on drums have carved out a reputation for heavy\, misanthropic\, horror-tinged sludge that hits hard both live and on record. Their debut album Pylon Cult\, released in January 2025\, shows exactly what they do best: crushing riffs\, sharp tempo shifts and a vocal delivery that feels like it’s clawing its way out of the speakers. They’ve been tearing up stages across the UK\, including Bloodstock 2024\, and we’re buzzing to have them on this lineup  \n\nTigguo Cobauc arrives from Nottingham and they’ve been on a real rise lately  Their Enochian black metal has only grown sharper and more atmospheric with each release\, from Trial by Combat through to the expansive Fountains of Anguish and now pushing even further with their latest single Ascended Deliverance. They’ve taken that sound across Europe with a full run of shows and festival appearances\, and it’s clear how much that momentum has shaped their live presence. With icy riffs\, layered keys and a sound that feels genuinely commanding\, they’re in a powerful place right now and you’re in for something special  \n\nErectomy join us from Preston\, bringing the full weight of their one-man slam project to the bill  With a live debut just a few months ago\, they’ve been turning heads with a heavy\, guttural approach to slam and they’ve built a serious reputation in the UK underground. The latest release\, Regurgitation\, has been doing the rounds on all streaming platforms and shows exactly why people have been paying attention. Raw\, direct and completely uncompromising\, Erectomy deliver the kind of intensity that hits hard in a live setting and we’re looking forward to seeing that energy up close \n\nWe say it every time\, and we haven’t been wrong yet… this definitely isn’t one to be missed 
URL:https://blacktongueevents.co.uk/event/black-tongue-events-presents-the-crowned-dead/
LOCATION:Redbourn Club\, Cemetery Rd\, Scunthorpe\, North Lincolnshire\, DN16 1NU\, United Kingdom
CATEGORIES:Metal,One-Off Shows
ATTACH;FMTTYPE=image/jpeg:https://blacktongueevents.co.uk/wp-content/uploads/2026/01/WhatsApp-Image-2025-11-14-at-02.05.38.jpeg
END:VEVENT
BEGIN:VEVENT
DTSTART;TZID=Europe/London:20260606T193000
DTEND;TZID=Europe/London:20260607T010000
DTSTAMP:20260419T135839
CREATED:20260409T203953Z
LAST-MODIFIED:20260409T204252Z
UID:2660-1780774200-1780794000@blacktongueevents.co.uk
SUMMARY:🖤 EMO / ALT DISCO – SCUNTHORPE 🖤
DESCRIPTION:The Ultimate Emo Night Returns… \n📍 Location: Cafe indie Scunthorpe High Street\n📅 Date: 06/06/26\n⏰ Time: Doors 7:30PM – Late\n🔞 Age: 18+\n🎟 Tickets: From £5 \n💔 THIS IS NOT JUST A NIGHT OUT… THIS IS A THROWBACK. \nWe’re bringing a full-blown EMO / ALT DISCO to Scunthorpe — packed with the anthems that raised a generation. \nIf you grew up screaming lyrics in your bedroom\, this is your night. \nExpect a non-stop soundtrack of emo\, pop punk\, alt rock\, metalcore & scene classics all night long. \n🔊 WHAT YOU’LL HEAR \nWe’re talking wall-to-wall bangers from: \n-My Chemical Romance\n-Fall Out Boy\n-Paramore\n-Panic! At The Disco\n-Bring Me The Horizon (old + new)\n-Pierce The Veil\n-Sleeping With Sirens\n-All Time Low\n-Blink-182\n-Green Day\n-Avril Lavigne\n-Taking Back Sunday\n-A Day To Remember \nMANY MORE \nNo filler. No random chart music. Just straight nostalgia and chaos. \n⚡ THE VIBE\nFull club energy\nSingalong anthems ALL NIGHT\nMosh / jump / scream-friendly environment\nDark alt aesthetic lighting & visuals\nDJs who actually understand the scene \nThis is your chance to relive it properly — louder\, heavier\, and with a full room doing it with you. \n🖤 DRESS CODE (OPTIONAL BUT ENCOURAGED) \nBring the scene back to life: \nBand tees\nVans / Converse\nFishnets / chains\nEyeliner optional (but recommended 😈) \n🎟 TICKETS\nAdvanced: £5\nOn The Door: £8 \n⚠️ These nights sell out fast — once it’s gone\, it’s gone. \n🚨 IMPORTANT INFO\n18+ only (ID required)\nZero tolerance for harassment or unsafe behaviour\nRespect the space\, respect each other\n🔥 WHY YOU CAN’T MISS THIS \nBecause nights like this don’t come around often locally. \nBecause you already know every word. \nBecause screaming “I’m Not Okay” in a packed room hits different. \n🖤 SCUNTHORPE… ARE YOU READY? \nThis is your scene. Your music. Your night.
URL:https://blacktongueevents.co.uk/event/emo-alt-disco-scunthorpe/
LOCATION:Cafe Indie\, 169-173 High St\, Scunthorpe\, North Lincolnshire\, DN15 6EH\, United Kingdom
CATEGORIES:Alternative,Metal,Punk
ATTACH;FMTTYPE=image/png:https://blacktongueevents.co.uk/wp-content/uploads/2026/04/Lets-Celebrate-2.png
END:VEVENT
BEGIN:VEVENT
DTSTART;TZID=Europe/London:20260724T190000
DTEND;TZID=Europe/London:20260724T230000
DTSTAMP:20260419T135839
CREATED:20260102T173129Z
LAST-MODIFIED:20260102T173129Z
UID:1511-1784919600-1784934000@blacktongueevents.co.uk
SUMMARY:PAPA SHANGO – LIVE IN SCUNTHORPE
DESCRIPTION:📍 EVENT DETAILS\nArtist: Papa ShangoLocation: Redbourn Club\, ScunthorpeTour: UK & European TourSupport: TBADoors: 7PM \n \nUK & European Tour Show \nWe are proud to present PAPA SHANGO\, one of the UK’s most electrifying live acts\, stopping off in Scunthorpe as part of their UK & European Tour. \nRenowned for crushing live energy\, commanding stage presence\, and a full-scale show that goes far beyond just playing songs\, Papa Shango deliver a true live experience. This is a band that has earned its reputation on stages across the UK and Europe — and now they’re bringing that intensity here. \nThis event is part of a wider push to bring touring live music back to Scunthorpe\, properly. More touring bands will be announced in the coming weeks as part of this movement. \nIf you care about live music\, this is one to be part of.
URL:https://blacktongueevents.co.uk/event/papa-shango-live-in-scunthorpe/
LOCATION:Redbourn Club\, Cemetery Rd\, Scunthorpe\, North Lincolnshire\, DN16 1NU\, United Kingdom
ATTACH;FMTTYPE=image/jpeg:https://blacktongueevents.co.uk/wp-content/uploads/2026/01/606849332_1704362693917924_5115323561878946310_n.jpg
END:VEVENT
BEGIN:VEVENT
DTSTART;TZID=Europe/London:20260725T190000
DTEND;TZID=Europe/London:20260725T230000
DTSTAMP:20260419T135839
CREATED:20260406T133238Z
LAST-MODIFIED:20260406T133331Z
UID:2650-1785006000-1785020400@blacktongueevents.co.uk
SUMMARY:John From Cargo Cult & Big Rig UK TOUR Support From BIOMECH & NARKA
DESCRIPTION:We promised you tours… so here’s another one.Hitting Scunthorpe\, John from Cargo Cult teams up with Big Rig to bring a night of pure heaviness\, raw energy\, and unfiltered live music. This stop is set to be loud\, aggressive\, and unforgettable — and we cannot wait to see these bands tear the stage apart.\n The Line-Up\nJohn from Cargo CultBlending crushing riffs with chaotic energy\, John from Cargo Cult deliver a sound rooted in the UK underground metal scene. Expect heavy breakdowns\, relentless pacing\, and a performance built to shake smaller venues to their core.\nBig RigA no-nonsense hardcore outfit bringing groove-driven heaviness and aggressive vocals. Big Rig are known for tight\, hard-hitting sets that get crowds moving instantly — fast\, loud\, and straight to the point.\nNARKARepresenting the local scene\, NARKA are the new blood coming out of Scunthorpe. Hungry\, intense\, and ready to prove themselves — expect a set full of energy and ambition.\n\nBiomechHailing from Leeds and tied into the Black Tongue Events circuit\, BIOMECH bring a heavier\, more mechanical edge. Their sound is precise\, punishing\, and built for fans of darker\, industrial-leaning metal. \nOffical After party Hosted by @northbassevents \nAfter Party Tickets
URL:https://blacktongueevents.co.uk/event/john-from-cargo-cult-big-rig-uk-tour-support-from-biomech-narka/
LOCATION:Britannia\, 198 High St\, Scunthorpe\, North Lincolnshire\, DN15 6EA\, United Kingdom
CATEGORIES:Metal,One-Off Shows
ATTACH;FMTTYPE=image/jpeg:https://blacktongueevents.co.uk/wp-content/uploads/2026/04/654307815_122167549730904196_2946136864591089437_n.jpg
END:VEVENT
BEGIN:VEVENT
DTSTART;TZID=Europe/London:20260731T183000
DTEND;TZID=Europe/London:20260731T230000
DTSTAMP:20260419T135839
CREATED:20260324T213329Z
LAST-MODIFIED:20260325T002927Z
UID:2557-1785522600-1785538800@blacktongueevents.co.uk
SUMMARY:HEAVY AS HELL: Forge Fest Warm Up Show
DESCRIPTION:HEAVY AS HELL: VAULT 27\nLive at Vault 27 \nBarnsley\, get ready. This one is not for the faint-hearted. \nWe’re bringing a stacked lineup of pure heaviness to Vault 27 — a night built for breakdowns\, chaos\, and everything the underground stands for. \n🔥 KENSEIBlack Country melodic death metal powerhouses. Precision\, aggression\, and a live show that hits like a freight train. \n🔥 BIOMECHLeeds’ own relentless force. Crushing riffs\, technical chaos\, and atmosphere that drags you straight into the pit. \n🔥 PSYLOCINDark\, heavy\, and unforgiving. Expect intensity from start to finish. \n🔥 NARKA (TBC)Scunthorpe’s rising noise bringers. Raw energy\, heavy grooves\, and a set built to move bodies. \nThis isn’t just another gig — this is a full-force underground show. No barriers. No standing still. Just noise\, movement\, and energy from the first note to the last. \n📍 Vault 27\, Barnsley🎟️ Limited tickets available — once they’re gone\, they’re gone. \nGet in early. Pack the room. Make it count.
URL:https://blacktongueevents.co.uk/event/heavy-as-hell-forge-fest-warm-up-show/
LOCATION:vault 27\, 27 Church St\, Barnsley\, Yorkshire\, S70 2AH\, United Kingdom
CATEGORIES:Metal,One-Off Shows
ATTACH;FMTTYPE=image/png:https://blacktongueevents.co.uk/wp-content/uploads/2026/03/31st-2.png
END:VEVENT
END:VCALENDAR